BEGIN:VCALENDAR
VERSION:2.0
PRODID:-//Matawan Historical Society TEST - ECPv6.15.17.1//NONSGML v1.0//EN
CALSCALE:GREGORIAN
METHOD:PUBLISH
X-ORIGINAL-URL:https://mhs-test.orrmedia.com
X-WR-CALDESC:Events for Matawan Historical Society TEST
REFRESH-INTERVAL;VALUE=DURATION:PT1H
X-Robots-Tag:noindex
X-PUBLISHED-TTL:PT1H
BEGIN:VTIMEZONE
TZID:America/New_York
BEGIN:DAYLIGHT
TZOFFSETFROM:-0500
TZOFFSETTO:-0400
TZNAME:EDT
DTSTART:20200308T070000
END:DAYLIGHT
BEGIN:STANDARD
TZOFFSETFROM:-0400
TZOFFSETTO:-0500
TZNAME:EST
DTSTART:20201101T060000
END:STANDARD
BEGIN:DAYLIGHT
TZOFFSETFROM:-0500
TZOFFSETTO:-0400
TZNAME:EDT
DTSTART:20210314T070000
END:DAYLIGHT
BEGIN:STANDARD
TZOFFSETFROM:-0400
TZOFFSETTO:-0500
TZNAME:EST
DTSTART:20211107T060000
END:STANDARD
BEGIN:DAYLIGHT
TZOFFSETFROM:-0500
TZOFFSETTO:-0400
TZNAME:EDT
DTSTART:20220313T070000
END:DAYLIGHT
BEGIN:STANDARD
TZOFFSETFROM:-0400
TZOFFSETTO:-0500
TZNAME:EST
DTSTART:20221106T060000
END:STANDARD
BEGIN:DAYLIGHT
TZOFFSETFROM:-0500
TZOFFSETTO:-0400
TZNAME:EDT
DTSTART:20230312T070000
END:DAYLIGHT
BEGIN:STANDARD
TZOFFSETFROM:-0400
TZOFFSETTO:-0500
TZNAME:EST
DTSTART:20231105T060000
END:STANDARD
BEGIN:DAYLIGHT
TZOFFSETFROM:-0500
TZOFFSETTO:-0400
TZNAME:EDT
DTSTART:20240310T070000
END:DAYLIGHT
BEGIN:STANDARD
TZOFFSETFROM:-0400
TZOFFSETTO:-0500
TZNAME:EST
DTSTART:20241103T060000
END:STANDARD
END:VTIMEZONE
BEGIN:VEVENT
DTSTART;TZID=America/New_York:20231201T080000
DTEND;TZID=America/New_York:20231201T170000
DTSTAMP:20260420T054351
CREATED:20231111T044939Z
LAST-MODIFIED:20231111T044939Z
UID:12471-1701417600-1701450000@mhs-test.orrmedia.com
SUMMARY:Test Event
DESCRIPTION:This is an event for testing.
URL:https://mhs-test.orrmedia.com/event/test-event/
LOCATION:Burrowes Mansion Museum\, 94 Main Street\, Matawan\, NJ\, 07747\, United States
END:VEVENT
BEGIN:VEVENT
DTSTART;TZID=America/New_York:20230805T160000
DTEND;TZID=America/New_York:20230805T170000
DTSTAMP:20260420T054351
CREATED:20230725T191531Z
LAST-MODIFIED:20230725T191531Z
UID:12245-1691251200-1691254800@mhs-test.orrmedia.com
SUMMARY:Burrowes Mansion Brass Quintet Concert
DESCRIPTION:We are pleased to announce the next in a series of events celebrating the 300th anniversary of the Burrowes Mansion by bringing you this special concert – The Brass Quintet on Saturday\, August 5th at 4:00 pm in the backyard of Burrowes Mansion (if rain or excessive heat is in the forecast\, it will be held at Borough Hall). MHS member\, Steven Russell and his four fellow musicians will play a variety of music from Bach to John Williams. We will have some chairs set up outside but feel free to bring your own. Refreshments will be served. Free event. All are welcome. 300th Anniversary items will also be on sale. \nIn the event of rain or extreme heat\, the concert will be held at Matawan Borough Hall\, 201 Broad Street\, Matawan. \nClick here to view the full details.
URL:https://mhs-test.orrmedia.com/event/burrowes-mansion-brass-quintet-concert/
LOCATION:Burrowes Mansion Museum\, 94 Main Street\, Matawan\, NJ\, 07747\, United States
END:VEVENT
BEGIN:VEVENT
DTSTART;TZID=America/New_York:20230626T190000
DTEND;TZID=America/New_York:20230626T203000
DTSTAMP:20260420T054351
CREATED:20230617T015150Z
LAST-MODIFIED:20230627T142856Z
UID:11642-1687806000-1687811400@mhs-test.orrmedia.com
SUMMARY:June Presentation and Meeting
DESCRIPTION:Presenter:  AMERICAN STONEWARE COLLECTORS\, LLC \nTopic: The Early Potters of Cheesequake and the Middletown Point Area \nLearn about the early potters and their craft with Stoneware.  Expert collectors and dealers of Stoneware from American Stoneware Collectors\, Inc. will be talking about these early potters and the production of their work then and today.  The presentation will include questions and answers at the conclusion of the presentation.  Refreshments will follow before we have our regular monthly membership meeting. \nThis is a free event and all are welcome to attend.
URL:https://mhs-test.orrmedia.com/event/june-presentation-and-meeting-2/
LOCATION:Matawan Borough Hall\, 201 Broad Street\, Matawan\, NJ\, 07747\, United States
END:VEVENT
BEGIN:VEVENT
DTSTART;TZID=America/New_York:20230618T140000
DTEND;TZID=America/New_York:20230618T160000
DTSTAMP:20260420T054351
CREATED:20230613T214948Z
LAST-MODIFIED:20230613T214948Z
UID:11598-1687096800-1687104000@mhs-test.orrmedia.com
SUMMARY:Burrowes Mansion Tours
DESCRIPTION:On the first and third Sunday of each month\, Matawan Historical Society Mansion volunteers provide tours of the Burrowes Mansion to the public.  Everyone is welcome and the tours are free (although donations to the Society are greatly appreciated). \nEach tour leads visitors room-to-room while guides discuss the Mansion’s dramatic history\, unique architecture\, period furniture\, and the fascinating people who lived there. \n 
URL:https://mhs-test.orrmedia.com/event/burrowes-mansion-tours-14/
LOCATION:Burrowes Mansion Museum\, 94 Main Street\, Matawan\, NJ\, 07747\, United States
END:VEVENT
BEGIN:VEVENT
DTSTART;VALUE=DATE:20230603
DTEND;VALUE=DATE:20230605
DTSTAMP:20260420T054351
CREATED:20230204T021943Z
LAST-MODIFIED:20230603T025421Z
UID:9027-1685750400-1685923199@mhs-test.orrmedia.com
SUMMARY:Burrowes Mansion Tricentennial Events
DESCRIPTION:Multi-day celebration of the Burrowes Mansion 300th anniversary.  Includes a reenactment of the 1778 raid on the Mansion. \nPlease see the schedule of events at this link. \nThe main page for the self-guided walking tour can be found at: https://mhs-test.orrmedia.com/walkingtour/ . \n 
URL:https://mhs-test.orrmedia.com/event/burrowes-mansion-tricentennial-events/
LOCATION:Burrowes Mansion Museum\, 94 Main Street\, Matawan\, NJ\, 07747\, United States
END:VEVENT
BEGIN:VEVENT
DTSTART;TZID=America/New_York:20230531T190000
DTEND;TZID=America/New_York:20230531T203000
DTSTAMP:20260420T054351
CREATED:20230414T172724Z
LAST-MODIFIED:20230414T173509Z
UID:10102-1685559600-1685565000@mhs-test.orrmedia.com
SUMMARY:Philip Freneau Presentation
DESCRIPTION:An in-costume theatrical portrayal of the life and legacy of Philip Freneau\, “The Poet of the Revolution.”  For more information\, please see this link:  Philip Freneau Presentation
URL:https://mhs-test.orrmedia.com/event/philip-freneau-presentation/
LOCATION:Matawan Aberdeen Regional High School\, 450 Atlantic Ave.\, Aberdeen\, NJ\, 07747\, United States
END:VEVENT
BEGIN:VEVENT
DTSTART;TZID=America/New_York:20230506T100000
DTEND;TZID=America/New_York:20230507T170000
DTSTAMP:20260420T054351
CREATED:20230414T174213Z
LAST-MODIFIED:20230414T174213Z
UID:10113-1683367200-1683478800@mhs-test.orrmedia.com
SUMMARY:Weekend in Old Monmouth
DESCRIPTION:We are happy to announce that the Matawan Historical Society and Burrowes Mansion Museum will be participating in the annual “Weekend in Old Monmouth” on Saturday\, May 6th and Sunday May 7th\,  2023.  The Mansion will be open to the public from 10 AM to 5 PM on Saturday and 12 PM to 5 PM on Sunday.  Volunteers will be on hand to give short tours and answer questions.  This is a free event!
URL:https://mhs-test.orrmedia.com/event/weekend-in-old-monmouth-3/
LOCATION:Burrowes Mansion Museum\, 94 Main Street\, Matawan\, NJ\, 07747\, United States
END:VEVENT
BEGIN:VEVENT
DTSTART;TZID=America/New_York:20230424T190000
DTEND;TZID=America/New_York:20230424T203000
DTSTAMP:20260420T054351
CREATED:20230424T160738Z
LAST-MODIFIED:20230424T161128Z
UID:10276-1682362800-1682368200@mhs-test.orrmedia.com
SUMMARY:April Presentation and Meeting
DESCRIPTION:Presenter: Kurtis Roinestad \nTopic: “The History of Matawan” – A new presentation and slideshow told in an informative and entertaining way. Trivia will be included at the end so hone those listening skills and see how many you answer correctly!
URL:https://mhs-test.orrmedia.com/event/april-presentation-and-meeting/
LOCATION:Matawan Borough Hall\, 201 Broad Street\, Matawan\, NJ\, 07747\, United States
END:VEVENT
BEGIN:VEVENT
DTSTART;TZID=America/New_York:20230327T190000
DTEND;TZID=America/New_York:20230327T203000
DTSTAMP:20260420T054351
CREATED:20230327T185334Z
LAST-MODIFIED:20230327T185334Z
UID:9873-1679943600-1679949000@mhs-test.orrmedia.com
SUMMARY:March Presentation and Meeting
DESCRIPTION:PRESENTER: MArk Chidichimo\nTOPIC: House Genealogy – Researching the history of your home. \n 
URL:https://mhs-test.orrmedia.com/event/march-presentation-and-meeting/
LOCATION:Matawan Borough Hall\, 201 Broad Street\, Matawan\, NJ\, 07747\, United States
END:VEVENT
BEGIN:VEVENT
DTSTART;TZID=America/New_York:20221227T183000
DTEND;TZID=America/New_York:20221227T210000
DTSTAMP:20260420T054351
CREATED:20221117T154022Z
LAST-MODIFIED:20221128T004325Z
UID:7623-1672165800-1672174800@mhs-test.orrmedia.com
SUMMARY:Annual Holiday Potluck Dinner and Yankee Swap
DESCRIPTION:Save the date.  More details to come.
URL:https://mhs-test.orrmedia.com/event/annual-holiday-potluck-dinner-and-yankee-swap/
LOCATION:First Baptist Church Community Building\, 232 Main Street\, Matawan\, NJ\, 07747
END:VEVENT
BEGIN:VEVENT
DTSTART;TZID=America/New_York:20221204T130000
DTEND;TZID=America/New_York:20221204T160000
DTSTAMP:20260420T054351
CREATED:20221117T153705Z
LAST-MODIFIED:20221117T153705Z
UID:7620-1670158800-1670169600@mhs-test.orrmedia.com
SUMMARY:The Holiday Musicale Open House
DESCRIPTION:A Matawan Tradition is back and better than ever.\nLive Holiday Music brought to you by: \n\nBalancing Act Quartet – 1:30 pm – 2:30 pm\nMHS Members – Diane Doolittle and Steve Russell – 2:45 pm – 3:45 pm\n\nStop in and listen to the sounds of the holiday season!  Balancing Act will sing in 4-part harmony\, traditional songs of the holiday season.  Steve and Diane will play instruments and sing holiday classics as well. \nFeel free to sing along or stroll through the decorated rooms and chat with members of the Society to learn more about the upcoming events of 2023.
URL:https://mhs-test.orrmedia.com/event/the-holiday-musicale-open-house/
LOCATION:Burrowes Mansion Museum\, 94 Main Street\, Matawan\, NJ\, 07747\, United States
END:VEVENT
BEGIN:VEVENT
DTSTART;TZID=America/New_York:20221121T190000
DTEND;TZID=America/New_York:20221121T203000
DTSTAMP:20260420T054351
CREATED:20221117T153023Z
LAST-MODIFIED:20221117T154053Z
UID:7617-1669057200-1669062600@mhs-test.orrmedia.com
SUMMARY:November Presentation and Meeting
DESCRIPTION:PRESENTER: John Lazar\nTOPIC: A Collection of Historic Artifacts \nJohn Lazar has been collecting a variety of items that relate back to the history of Matawan as well as unusual and rare items relating to different periods in our history. John will bring some of these collectibles for us to see and explain the stories behind them and perhaps even give us some pointers about understanding what constitutes a collectible and the value associated with it.
URL:https://mhs-test.orrmedia.com/event/november-presentation-and-meeting/
LOCATION:Matawan Borough Hall\, 201 Broad Street\, Matawan\, NJ\, 07747\, United States
END:VEVENT
BEGIN:VEVENT
DTSTART;TZID=America/New_York:20221120T140000
DTEND;TZID=America/New_York:20221120T160000
DTSTAMP:20260420T054351
CREATED:20221007T190658Z
LAST-MODIFIED:20221107T141507Z
UID:7146-1668952800-1668960000@mhs-test.orrmedia.com
SUMMARY:Burrowes Mansion Tours
DESCRIPTION:On the first and third Sunday of each month\, Matawan Historical Society Mansion volunteers provide tours of the Burrowes Mansion to the public.  Everyone is welcome and the tours are free (although donations to the Society are greatly appreciated). \nEach tour leads visitors room-to-room while guides discuss the Mansion’s dramatic history\, unique architecture\, period furniture\, and the fascinating people who lived there.
URL:https://mhs-test.orrmedia.com/event/burrowes-mansion-tours-13/
LOCATION:Burrowes Mansion Museum\, 94 Main Street\, Matawan\, NJ\, 07747\, United States
END:VEVENT
BEGIN:VEVENT
DTSTART;TZID=America/New_York:20221029T180000
DTEND;TZID=America/New_York:20221029T210000
DTSTAMP:20260420T054351
CREATED:20221015T131240Z
LAST-MODIFIED:20221015T131240Z
UID:7239-1667066400-1667077200@mhs-test.orrmedia.com
SUMMARY:Matawan Haunted History Walking Tours
DESCRIPTION:Haunted History Walking Tours are back on Saturday\, October 29th as part of the Matawan Halloween Spooktacular Saturday. Tickets are on sale now for 6:00 pm\, 7:00 pm\, 8:00 pm\, 9:00 pm. on Eventbrite.\n\nJust click here https://MatawanHauntedHistoryTour.eventbrite.com
URL:https://mhs-test.orrmedia.com/event/matawan-haunted-history-walking-tours/
LOCATION:Burrowes Mansion Museum\, 94 Main Street\, Matawan\, NJ\, 07747\, United States
END:VEVENT
BEGIN:VEVENT
DTSTART;TZID=America/New_York:20221024T193000
DTEND;TZID=America/New_York:20221024T213000
DTSTAMP:20260420T054351
CREATED:20220619T144440Z
LAST-MODIFIED:20221024T190724Z
UID:4360-1666639800-1666647000@mhs-test.orrmedia.com
SUMMARY:October Presentation and Meeting
DESCRIPTION:Presenter: Daisy Orr\, MHS member and Burrowes Mansion guide \nTopic:  Who Built the Burrowes Mansion?\nThe intriguing story of the Bowne family and their wide-ranging influence on Matawan and regional history. Daisy will describe the series of events that led to the settlement of Matawan and the building of the Mansion. She will also discuss our connection to Penelope Stout\, one of the most remarkable characters in early America.
URL:https://mhs-test.orrmedia.com/event/june-presentation-and-meeting/
LOCATION:Burrowes Mansion Museum\, 94 Main Street\, Matawan\, NJ\, 07747\, United States
END:VEVENT
BEGIN:VEVENT
DTSTART;TZID=America/New_York:20221023T140000
DTEND;TZID=America/New_York:20221023T170000
DTSTAMP:20260420T054351
CREATED:20220928T151255Z
LAST-MODIFIED:20221022T235251Z
UID:6974-1666533600-1666544400@mhs-test.orrmedia.com
SUMMARY:POSTPONED - Cliffwood Beach History Tour
DESCRIPTION:The Cliffwood Beach Tours scheduled for Sunday\, 10/23\, have been postponed due to pending rain. We will reschedule in Spring 2023. Please keep an eye on our Facebook page for updates
URL:https://mhs-test.orrmedia.com/event/cliffwood-beach-history-tour/
LOCATION:Veterans Memorial Park\, Ocean Blvd & Lakeshore Dr\, Keyport\, NJ\, 07735\, United States
END:VEVENT
BEGIN:VEVENT
DTSTART;TZID=America/New_York:20221022T120000
DTEND;TZID=America/New_York:20221022T160000
DTSTAMP:20260420T054351
CREATED:20220928T150225Z
LAST-MODIFIED:20220929T182515Z
UID:6972-1666440000-1666454400@mhs-test.orrmedia.com
SUMMARY:Matawan Day Street Festival 2022
DESCRIPTION:With nearly 200 vendors signed up for the big day\, we can expect big crowds to return this year to the Matawan Historical Society Table. Please join us at the Burrowes Mansion for the festival!
URL:https://mhs-test.orrmedia.com/event/matawan-day-street-festival-2022/
LOCATION:Burrowes Mansion Museum\, 94 Main Street\, Matawan\, NJ\, 07747\, United States
END:VEVENT
BEGIN:VEVENT
DTSTART;TZID=America/New_York:20221003T180000
DTEND;TZID=America/New_York:20221003T200000
DTSTAMP:20260420T054351
CREATED:20220903T150805Z
LAST-MODIFIED:20220928T152604Z
UID:6541-1664820000-1664827200@mhs-test.orrmedia.com
SUMMARY:Welcome Back BBQ and Board of Director Elections
DESCRIPTION:Please join us in the backyard of Burrowes Mansion on Monday\, October 3rd for our annual cookout of hamburgers and hot dogs\, corn on the cob\, and some sides while enjoying the company of others interested in history. \n\n6:00 pm – Cookout begins\n6:30 pm – Board of Directors’ Election\n7:00 pm – Meeting
URL:https://mhs-test.orrmedia.com/event/welcome-back-bbq-and-board-of-director-elections/
LOCATION:Burrowes Mansion Museum\, 94 Main Street\, Matawan\, NJ\, 07747\, United States
END:VEVENT
BEGIN:VEVENT
DTSTART;TZID=America/New_York:20220712T183000
DTEND;TZID=America/New_York:20220712T203000
DTSTAMP:20260420T054351
CREATED:20220709T180711Z
LAST-MODIFIED:20220709T184551Z
UID:4901-1657650600-1657657800@mhs-test.orrmedia.com
SUMMARY:Shark Attack Commemoration Tour
DESCRIPTION:The anniversary of the Matawan Shark Attacks returns on Tuesday\, July 12th\, the 106th anniversary of that tragic day. In honor of the heroism exhibited by many and the events that followed\, the Matawan Historical Society will be hosting their annual Shark Attack Commemoration Tour that day. \n6:30 at Burrowes Mansion – 94 Main Street\, Matawan\nTickets are $10 per person at the door. No advanced sales. Cash only\, please.\nChildren under 16 years old are free.  We will be giving out kids’ trivia sheets with a prize awarded\, as well. \nThe tour begins at the mansion and will continue up Main Street to several locations between Main\, Jackson\, and Wyckoff\, and Ravine Drive.\nThe amount of walking is about a mile. We recommend wearing comfortable shoes. \nNew information\, stories\, and new photos – the original photos used by the New York Times will be shown during the tour. \nAll are welcome for some refreshments as well. \nRain Date – Wednesday\, July 13th at 6:30 pm\, Burrowes Mansion – 94 Main Street
URL:https://mhs-test.orrmedia.com/event/shark-attack-commemoration-tour/
LOCATION:Burrowes Mansion Museum\, 94 Main Street\, Matawan\, NJ\, 07747\, United States
END:VEVENT
BEGIN:VEVENT
DTSTART;TZID=America/New_York:20220619T140000
DTEND;TZID=America/New_York:20220619T160000
DTSTAMP:20260420T054351
CREATED:20220524T145826Z
LAST-MODIFIED:20220610T154024Z
UID:3758-1655647200-1655654400@mhs-test.orrmedia.com
SUMMARY:Burrowes Mansion Tours
DESCRIPTION:On the first and third Sunday of each month\, Matawan Historical Society Mansion volunteers provide tours of the Burrowes Mansion to the public.  Everyone is welcome and the tours are free (although donations to the Society are greatly appreciated). \nEach tour leads visitors room-to-room while guides discuss the Mansion’s dramatic history\, unique architecture\, period furniture\, and the fascinating people who lived there.
URL:https://mhs-test.orrmedia.com/event/burrowes-mansion-tours-12/
LOCATION:Burrowes Mansion Museum\, 94 Main Street\, Matawan\, NJ\, 07747\, United States
END:VEVENT
BEGIN:VEVENT
DTSTART;TZID=America/New_York:20220523T193000
DTEND;TZID=America/New_York:20220523T210000
DTSTAMP:20260420T054351
CREATED:20220512T142721Z
LAST-MODIFIED:20220512T142721Z
UID:3526-1653334200-1653339600@mhs-test.orrmedia.com
SUMMARY:May Presentation and Meeting
DESCRIPTION:A night to mix and mingle between new members and long-standing ones\, and the Board of Directors. It’s a chance to learn how to make the most of your membership and the opportunities it provides. \nThe evening includes refreshments and conversation\, updates and opportunities. There will be quick updates about our plans for the year\, introductions about the standing committees and short-term committees\, and what you can do to involve yourself in them. \nMark your calendars and plan on joining us for this fun\, relaxing\, and informal way of learning more about each other and the Society\, and how we can continue to come together to enjoy our common interest in history. \n 
URL:https://mhs-test.orrmedia.com/event/may-presentation-and-meeting/
LOCATION:Burrowes Mansion Museum\, 94 Main Street\, Matawan\, NJ\, 07747\, United States
END:VEVENT
BEGIN:VEVENT
DTSTART;TZID=America/New_York:20220515T140000
DTEND;TZID=America/New_York:20220515T160000
DTSTAMP:20260420T054351
CREATED:20220511T212905Z
LAST-MODIFIED:20220511T212905Z
UID:3517-1652623200-1652630400@mhs-test.orrmedia.com
SUMMARY:Burrowes Mansion Tours
DESCRIPTION:On the first and third Sunday of each month\, Matawan Historical Society Mansion volunteers provide tours of the Burrowes Mansion to the public.  Everyone is welcome and the tours are free (although donations to the Society are greatly appreciated). \nEach tour leads visitors room-to-room while guides discuss the Mansion’s dramatic history\, unique architecture\, period furniture\, and the fascinating people who lived there.
URL:https://mhs-test.orrmedia.com/event/burrowes-mansion-tours-11/
LOCATION:Burrowes Mansion Museum\, 94 Main Street\, Matawan\, NJ\, 07747\, United States
END:VEVENT
BEGIN:VEVENT
DTSTART;TZID=America/New_York:20220501T120000
DTEND;TZID=America/New_York:20220501T170000
DTSTAMP:20260420T054351
CREATED:20220404T183114Z
LAST-MODIFIED:20220404T183114Z
UID:3094-1651406400-1651424400@mhs-test.orrmedia.com
SUMMARY:Weekend in Old Monmouth
DESCRIPTION:We are happy to announce that the Matawan Historical Society and Burrowes Mansion Museum will be participating in the annual “Weekend in Old Monmouth” on Saturday\, April 30th and Sunday May 1st\,\,  2022.  The Mansion will be open to the public from 10 AM to 5 PM on Saturday and 12 PM to 5 PM on Sunday.  Volunteers will be on hand to give short tours and answer questions.  This is a free event!
URL:https://mhs-test.orrmedia.com/event/weekend-in-old-monmouth-2/
LOCATION:Burrowes Mansion Museum\, 94 Main Street\, Matawan\, NJ\, 07747\, United States
ATTACH;FMTTYPE=image/jpeg:https://mhs-test.orrmedia.com/wp-content/uploads/2022/04/MansionAerial.jpg
END:VEVENT
BEGIN:VEVENT
DTSTART;TZID=America/New_York:20220430T100000
DTEND;TZID=America/New_York:20220430T170000
DTSTAMP:20260420T054351
CREATED:20220404T182420Z
LAST-MODIFIED:20220404T182420Z
UID:3091-1651312800-1651338000@mhs-test.orrmedia.com
SUMMARY:Weekend in Old Monmouth
DESCRIPTION:We are happy to announce that the Matawan Historical Society and Burrowes Mansion Museum will be participating in the annual “Weekend in Old Monmouth” on Saturday\, April 30th and Sunday May 1st\,\,  2022.  The Mansion will be open to the public from 10 AM to 5 PM on Saturday and 12 PM to 5 PM on Sunday.  Volunteers will be on hand to give short tours and answer questions.  This is a free event!
URL:https://mhs-test.orrmedia.com/event/weekend-in-old-monmouth/
LOCATION:Burrowes Mansion Museum\, 94 Main Street\, Matawan\, NJ\, 07747\, United States
ATTACH;FMTTYPE=image/jpeg:https://mhs-test.orrmedia.com/wp-content/uploads/2022/04/MansionAerial.jpg
END:VEVENT
BEGIN:VEVENT
DTSTART;TZID=America/New_York:20220425T193000
DTEND;TZID=America/New_York:20220425T210000
DTSTAMP:20260420T054351
CREATED:20220407T205737Z
LAST-MODIFIED:20220407T205737Z
UID:3143-1650915000-1650920400@mhs-test.orrmedia.com
SUMMARY:Monthly Meeting/Presentation
DESCRIPTION:Join us at Matawan Borough Hall for a live presentation on a historical topic of interest.  Refreshments will be provided.
URL:https://mhs-test.orrmedia.com/event/monthly-meeting-presentation/
LOCATION:Matawan Borough Hall\, 201 Broad Street\, Matawan\, NJ\, 07747\, United States
END:VEVENT
BEGIN:VEVENT
DTSTART;TZID=America/New_York:20220403T140000
DTEND;TZID=America/New_York:20220403T160000
DTSTAMP:20260420T054351
CREATED:20220320T202900Z
LAST-MODIFIED:20220320T202900Z
UID:2937-1648994400-1649001600@mhs-test.orrmedia.com
SUMMARY:Burrowes Mansion Tours
DESCRIPTION:On the first and third Sunday of each month\, Matawan Historical Society Mansion volunteers provide tours of the Burrowes Mansion to the public.  Everyone is welcome and the tours are free (although donations to the Society are greatly appreciated). \nEach tour leads visitors room-to-room while guides discuss the Mansion’s dramatic history\, unique architecture\, period furniture\, and the fascinating people who lived there.
URL:https://mhs-test.orrmedia.com/event/burrowes-mansion-tours-10/
LOCATION:Burrowes Mansion Museum\, 94 Main Street\, Matawan\, NJ\, 07747\, United States
END:VEVENT
BEGIN:VEVENT
DTSTART;TZID=America/New_York:20220328T193000
DTEND;TZID=America/New_York:20220328T210000
DTSTAMP:20260420T054351
CREATED:20220309T225723Z
LAST-MODIFIED:20220326T161925Z
UID:2826-1648495800-1648501200@mhs-test.orrmedia.com
SUMMARY:Scott Mazzella Presents Greatest Coastal Storms of the Jersey Shore (Note Location Change!)
DESCRIPTION:Monday\, March 28th\n7:30 pm\nMatawan Borough Hall – 201 Broad Street\, Matawan  (NOTE LOCATION CHANGE) \nMeeting and refreshments to follow \nReady to ride out the storm? Author and Matawan resident Scott Mazzella will be presenting a book talk about New Jersey’s greatest coastal storms. \nSince colonial times\, Americans have been fascinated by storms. Mazzella will take you on a journey through some of the most fascinating and devastating storms the Jersey Shore has ever seen. From the ’44 Hurricane to the ’62 Storm/nor’easter to our own great storm Superstorm Sandy\, Mazzella will discuss them all with vivid and eye-opening images from all of these storms. In addition to the great storms of the Jersey Shore\, Mazzella will discuss tornados\, derechos\, and meteotsunamis! Don’t miss this opportunity to learn about New Jersey’s most intriguing weather events. \n  \nScott Mazzella is the author of the four-time national award-winning book “Surviving Sandy: Long Beach Island and the Greatest Storm of the Jersey Shore” and co-author of the national award-winning second edition of “Great Storms of the Jersey Shore”.  Both books will be available for purchase at the presentation. The author will also gladly sign any copies attendees bring with them as well!
URL:https://mhs-test.orrmedia.com/event/scott-mazzella-presents-greatest-coastal-storms-of-the-jersey-shore/
LOCATION:Matawan Borough Hall\, 201 Broad Street\, Matawan\, NJ\, 07747\, United States
END:VEVENT
BEGIN:VEVENT
DTSTART;TZID=America/New_York:20220320T140000
DTEND;TZID=America/New_York:20220320T160000
DTSTAMP:20260420T054351
CREATED:20220308T025343Z
LAST-MODIFIED:20220308T025343Z
UID:2804-1647784800-1647792000@mhs-test.orrmedia.com
SUMMARY:Burrowes Mansion Tours
DESCRIPTION:On the first and third Sunday of each month\, Matawan Historical Society Mansion volunteers provide tours of the Burrowes Mansion to the public.  Everyone is welcome and the tours are free (although donations to the Society are greatly appreciated). \nEach tour leads visitors room-to-room while guides discuss the Mansion’s dramatic history\, unique architecture\, period furniture\, and the fascinating people who lived there.
URL:https://mhs-test.orrmedia.com/event/burrowes-mansion-tours-9/
LOCATION:Burrowes Mansion Museum\, 94 Main Street\, Matawan\, NJ\, 07747\, United States
END:VEVENT
BEGIN:VEVENT
DTSTART;TZID=America/New_York:20220306T140000
DTEND;TZID=America/New_York:20220306T160000
DTSTAMP:20260420T054351
CREATED:20220207T195731Z
LAST-MODIFIED:20220210T131840Z
UID:2696-1646575200-1646582400@mhs-test.orrmedia.com
SUMMARY:Burrowes Mansion Tours
DESCRIPTION:On the first and third Sunday of each month\, Matawan Historical Society Mansion volunteers provide tours of the Burrowes Mansion to the public.  Everyone is welcome and the tours are free (although donations to the Society are greatly appreciated). \nEach tour leads visitors room-to-room while guides discuss the Mansion’s dramatic history\, unique architecture\, period furniture\, and the fascinating people who lived there.
URL:https://mhs-test.orrmedia.com/event/burrowes-mansion-tours-8/
LOCATION:Burrowes Mansion Museum\, 94 Main Street\, Matawan\, NJ\, 07747\, United States
ATTACH;FMTTYPE=image/jpeg:https://mhs-test.orrmedia.com/wp-content/uploads/2021/10/DaisyMusket-scaled-e1637110026562.jpg
END:VEVENT
BEGIN:VEVENT
DTSTART;TZID=America/New_York:20211227T183000
DTEND;TZID=America/New_York:20211227T213000
DTSTAMP:20260420T054351
CREATED:20211122T183246Z
LAST-MODIFIED:20211226T142117Z
UID:2662-1640629800-1640640600@mhs-test.orrmedia.com
SUMMARY:POSTPONED: Holiday Pot Luck Dinner and Gift Swap
DESCRIPTION:After much thought and discussion regarding the current rise in COVID-19 cases and our upcoming dinner\, the Matawan Historical Society Board of Directors has decided to err on the side of caution and postpone this annual event until the spring. \nSet your Yankee Swap gifts aside and we’ll keep our raffle and contest prizes aside as well until we have a chance to gather for this favorite night next spring. \nIn the meantime\, we wish everyone a wonderful rest of this holiday season\, and a healthy and happy new year! \n 
URL:https://mhs-test.orrmedia.com/event/holiday-pot-luck-dinner-and-gift-swap/
LOCATION:First Baptist Church Community Building\, 232 Main Street\, Matawan\, NJ\, 07747
END:VEVENT
END:VCALENDAR