BEGIN:VCALENDAR
VERSION:2.0
PRODID:-//Matawan Historical Society TEST - ECPv6.15.17.1//NONSGML v1.0//EN
CALSCALE:GREGORIAN
METHOD:PUBLISH
X-WR-CALNAME:Matawan Historical Society TEST
X-ORIGINAL-URL:https://mhs-test.orrmedia.com
X-WR-CALDESC:Events for Matawan Historical Society TEST
REFRESH-INTERVAL;VALUE=DURATION:PT1H
X-Robots-Tag:noindex
X-PUBLISHED-TTL:PT1H
BEGIN:VTIMEZONE
TZID:America/New_York
BEGIN:DAYLIGHT
TZOFFSETFROM:-0500
TZOFFSETTO:-0400
TZNAME:EDT
DTSTART:20200308T070000
END:DAYLIGHT
BEGIN:STANDARD
TZOFFSETFROM:-0400
TZOFFSETTO:-0500
TZNAME:EST
DTSTART:20201101T060000
END:STANDARD
BEGIN:DAYLIGHT
TZOFFSETFROM:-0500
TZOFFSETTO:-0400
TZNAME:EDT
DTSTART:20210314T070000
END:DAYLIGHT
BEGIN:STANDARD
TZOFFSETFROM:-0400
TZOFFSETTO:-0500
TZNAME:EST
DTSTART:20211107T060000
END:STANDARD
BEGIN:DAYLIGHT
TZOFFSETFROM:-0500
TZOFFSETTO:-0400
TZNAME:EDT
DTSTART:20220313T070000
END:DAYLIGHT
BEGIN:STANDARD
TZOFFSETFROM:-0400
TZOFFSETTO:-0500
TZNAME:EST
DTSTART:20221106T060000
END:STANDARD
BEGIN:DAYLIGHT
TZOFFSETFROM:-0500
TZOFFSETTO:-0400
TZNAME:EDT
DTSTART:20230312T070000
END:DAYLIGHT
BEGIN:STANDARD
TZOFFSETFROM:-0400
TZOFFSETTO:-0500
TZNAME:EST
DTSTART:20231105T060000
END:STANDARD
END:VTIMEZONE
BEGIN:VEVENT
DTSTART;TZID=America/New_York:20220523T193000
DTEND;TZID=America/New_York:20220523T210000
DTSTAMP:20260424T065001
CREATED:20220512T142721Z
LAST-MODIFIED:20220512T142721Z
UID:3526-1653334200-1653339600@mhs-test.orrmedia.com
SUMMARY:May Presentation and Meeting
DESCRIPTION:A night to mix and mingle between new members and long-standing ones\, and the Board of Directors. It’s a chance to learn how to make the most of your membership and the opportunities it provides. \nThe evening includes refreshments and conversation\, updates and opportunities. There will be quick updates about our plans for the year\, introductions about the standing committees and short-term committees\, and what you can do to involve yourself in them. \nMark your calendars and plan on joining us for this fun\, relaxing\, and informal way of learning more about each other and the Society\, and how we can continue to come together to enjoy our common interest in history. \n 
URL:https://mhs-test.orrmedia.com/event/may-presentation-and-meeting/
LOCATION:Burrowes Mansion Museum\, 94 Main Street\, Matawan\, NJ\, 07747\, United States
END:VEVENT
BEGIN:VEVENT
DTSTART;TZID=America/New_York:20220515T140000
DTEND;TZID=America/New_York:20220515T160000
DTSTAMP:20260424T065001
CREATED:20220511T212905Z
LAST-MODIFIED:20220511T212905Z
UID:3517-1652623200-1652630400@mhs-test.orrmedia.com
SUMMARY:Burrowes Mansion Tours
DESCRIPTION:On the first and third Sunday of each month\, Matawan Historical Society Mansion volunteers provide tours of the Burrowes Mansion to the public.  Everyone is welcome and the tours are free (although donations to the Society are greatly appreciated). \nEach tour leads visitors room-to-room while guides discuss the Mansion’s dramatic history\, unique architecture\, period furniture\, and the fascinating people who lived there.
URL:https://mhs-test.orrmedia.com/event/burrowes-mansion-tours-11/
LOCATION:Burrowes Mansion Museum\, 94 Main Street\, Matawan\, NJ\, 07747\, United States
END:VEVENT
BEGIN:VEVENT
DTSTART;TZID=America/New_York:20220501T120000
DTEND;TZID=America/New_York:20220501T170000
DTSTAMP:20260424T065001
CREATED:20220404T183114Z
LAST-MODIFIED:20220404T183114Z
UID:3094-1651406400-1651424400@mhs-test.orrmedia.com
SUMMARY:Weekend in Old Monmouth
DESCRIPTION:We are happy to announce that the Matawan Historical Society and Burrowes Mansion Museum will be participating in the annual “Weekend in Old Monmouth” on Saturday\, April 30th and Sunday May 1st\,\,  2022.  The Mansion will be open to the public from 10 AM to 5 PM on Saturday and 12 PM to 5 PM on Sunday.  Volunteers will be on hand to give short tours and answer questions.  This is a free event!
URL:https://mhs-test.orrmedia.com/event/weekend-in-old-monmouth-2/
LOCATION:Burrowes Mansion Museum\, 94 Main Street\, Matawan\, NJ\, 07747\, United States
ATTACH;FMTTYPE=image/jpeg:https://mhs-test.orrmedia.com/wp-content/uploads/2022/04/MansionAerial.jpg
END:VEVENT
BEGIN:VEVENT
DTSTART;TZID=America/New_York:20220430T100000
DTEND;TZID=America/New_York:20220430T170000
DTSTAMP:20260424T065001
CREATED:20220404T182420Z
LAST-MODIFIED:20220404T182420Z
UID:3091-1651312800-1651338000@mhs-test.orrmedia.com
SUMMARY:Weekend in Old Monmouth
DESCRIPTION:We are happy to announce that the Matawan Historical Society and Burrowes Mansion Museum will be participating in the annual “Weekend in Old Monmouth” on Saturday\, April 30th and Sunday May 1st\,\,  2022.  The Mansion will be open to the public from 10 AM to 5 PM on Saturday and 12 PM to 5 PM on Sunday.  Volunteers will be on hand to give short tours and answer questions.  This is a free event!
URL:https://mhs-test.orrmedia.com/event/weekend-in-old-monmouth/
LOCATION:Burrowes Mansion Museum\, 94 Main Street\, Matawan\, NJ\, 07747\, United States
ATTACH;FMTTYPE=image/jpeg:https://mhs-test.orrmedia.com/wp-content/uploads/2022/04/MansionAerial.jpg
END:VEVENT
BEGIN:VEVENT
DTSTART;TZID=America/New_York:20220425T193000
DTEND;TZID=America/New_York:20220425T210000
DTSTAMP:20260424T065001
CREATED:20220407T205737Z
LAST-MODIFIED:20220407T205737Z
UID:3143-1650915000-1650920400@mhs-test.orrmedia.com
SUMMARY:Monthly Meeting/Presentation
DESCRIPTION:Join us at Matawan Borough Hall for a live presentation on a historical topic of interest.  Refreshments will be provided.
URL:https://mhs-test.orrmedia.com/event/monthly-meeting-presentation/
LOCATION:Matawan Borough Hall\, 201 Broad Street\, Matawan\, NJ\, 07747\, United States
END:VEVENT
BEGIN:VEVENT
DTSTART;TZID=America/New_York:20220403T140000
DTEND;TZID=America/New_York:20220403T160000
DTSTAMP:20260424T065001
CREATED:20220320T202900Z
LAST-MODIFIED:20220320T202900Z
UID:2937-1648994400-1649001600@mhs-test.orrmedia.com
SUMMARY:Burrowes Mansion Tours
DESCRIPTION:On the first and third Sunday of each month\, Matawan Historical Society Mansion volunteers provide tours of the Burrowes Mansion to the public.  Everyone is welcome and the tours are free (although donations to the Society are greatly appreciated). \nEach tour leads visitors room-to-room while guides discuss the Mansion’s dramatic history\, unique architecture\, period furniture\, and the fascinating people who lived there.
URL:https://mhs-test.orrmedia.com/event/burrowes-mansion-tours-10/
LOCATION:Burrowes Mansion Museum\, 94 Main Street\, Matawan\, NJ\, 07747\, United States
END:VEVENT
BEGIN:VEVENT
DTSTART;TZID=America/New_York:20220328T193000
DTEND;TZID=America/New_York:20220328T210000
DTSTAMP:20260424T065001
CREATED:20220309T225723Z
LAST-MODIFIED:20220326T161925Z
UID:2826-1648495800-1648501200@mhs-test.orrmedia.com
SUMMARY:Scott Mazzella Presents Greatest Coastal Storms of the Jersey Shore (Note Location Change!)
DESCRIPTION:Monday\, March 28th\n7:30 pm\nMatawan Borough Hall – 201 Broad Street\, Matawan  (NOTE LOCATION CHANGE) \nMeeting and refreshments to follow \nReady to ride out the storm? Author and Matawan resident Scott Mazzella will be presenting a book talk about New Jersey’s greatest coastal storms. \nSince colonial times\, Americans have been fascinated by storms. Mazzella will take you on a journey through some of the most fascinating and devastating storms the Jersey Shore has ever seen. From the ’44 Hurricane to the ’62 Storm/nor’easter to our own great storm Superstorm Sandy\, Mazzella will discuss them all with vivid and eye-opening images from all of these storms. In addition to the great storms of the Jersey Shore\, Mazzella will discuss tornados\, derechos\, and meteotsunamis! Don’t miss this opportunity to learn about New Jersey’s most intriguing weather events. \n  \nScott Mazzella is the author of the four-time national award-winning book “Surviving Sandy: Long Beach Island and the Greatest Storm of the Jersey Shore” and co-author of the national award-winning second edition of “Great Storms of the Jersey Shore”.  Both books will be available for purchase at the presentation. The author will also gladly sign any copies attendees bring with them as well!
URL:https://mhs-test.orrmedia.com/event/scott-mazzella-presents-greatest-coastal-storms-of-the-jersey-shore/
LOCATION:Matawan Borough Hall\, 201 Broad Street\, Matawan\, NJ\, 07747\, United States
END:VEVENT
BEGIN:VEVENT
DTSTART;TZID=America/New_York:20220320T140000
DTEND;TZID=America/New_York:20220320T160000
DTSTAMP:20260424T065001
CREATED:20220308T025343Z
LAST-MODIFIED:20220308T025343Z
UID:2804-1647784800-1647792000@mhs-test.orrmedia.com
SUMMARY:Burrowes Mansion Tours
DESCRIPTION:On the first and third Sunday of each month\, Matawan Historical Society Mansion volunteers provide tours of the Burrowes Mansion to the public.  Everyone is welcome and the tours are free (although donations to the Society are greatly appreciated). \nEach tour leads visitors room-to-room while guides discuss the Mansion’s dramatic history\, unique architecture\, period furniture\, and the fascinating people who lived there.
URL:https://mhs-test.orrmedia.com/event/burrowes-mansion-tours-9/
LOCATION:Burrowes Mansion Museum\, 94 Main Street\, Matawan\, NJ\, 07747\, United States
END:VEVENT
BEGIN:VEVENT
DTSTART;TZID=America/New_York:20220306T140000
DTEND;TZID=America/New_York:20220306T160000
DTSTAMP:20260424T065001
CREATED:20220207T195731Z
LAST-MODIFIED:20220210T131840Z
UID:2696-1646575200-1646582400@mhs-test.orrmedia.com
SUMMARY:Burrowes Mansion Tours
DESCRIPTION:On the first and third Sunday of each month\, Matawan Historical Society Mansion volunteers provide tours of the Burrowes Mansion to the public.  Everyone is welcome and the tours are free (although donations to the Society are greatly appreciated). \nEach tour leads visitors room-to-room while guides discuss the Mansion’s dramatic history\, unique architecture\, period furniture\, and the fascinating people who lived there.
URL:https://mhs-test.orrmedia.com/event/burrowes-mansion-tours-8/
LOCATION:Burrowes Mansion Museum\, 94 Main Street\, Matawan\, NJ\, 07747\, United States
ATTACH;FMTTYPE=image/jpeg:https://mhs-test.orrmedia.com/wp-content/uploads/2021/10/DaisyMusket-scaled-e1637110026562.jpg
END:VEVENT
BEGIN:VEVENT
DTSTART;TZID=America/New_York:20211227T183000
DTEND;TZID=America/New_York:20211227T213000
DTSTAMP:20260424T065001
CREATED:20211122T183246Z
LAST-MODIFIED:20211226T142117Z
UID:2662-1640629800-1640640600@mhs-test.orrmedia.com
SUMMARY:POSTPONED: Holiday Pot Luck Dinner and Gift Swap
DESCRIPTION:After much thought and discussion regarding the current rise in COVID-19 cases and our upcoming dinner\, the Matawan Historical Society Board of Directors has decided to err on the side of caution and postpone this annual event until the spring. \nSet your Yankee Swap gifts aside and we’ll keep our raffle and contest prizes aside as well until we have a chance to gather for this favorite night next spring. \nIn the meantime\, we wish everyone a wonderful rest of this holiday season\, and a healthy and happy new year! \n 
URL:https://mhs-test.orrmedia.com/event/holiday-pot-luck-dinner-and-gift-swap/
LOCATION:First Baptist Church Community Building\, 232 Main Street\, Matawan\, NJ\, 07747
END:VEVENT
BEGIN:VEVENT
DTSTART;TZID=America/New_York:20211219T140000
DTEND;TZID=America/New_York:20211219T160000
DTSTAMP:20260424T065001
CREATED:20211122T183623Z
LAST-MODIFIED:20211123T012828Z
UID:2666-1639922400-1639929600@mhs-test.orrmedia.com
SUMMARY:Burrowes Mansion Tours
DESCRIPTION:On the first and third Sunday of each month\, Matawan Historical Society Mansion volunteers provide tours of the Burrowes Mansion to the public.  Everyone is welcome and the tours are free (although donations to the Society are greatly appreciated). \nEach tour leads visitors room-to-room while guides discuss the Mansion’s dramatic history\, unique architecture\, period furniture\, and the fascinating people who lived there. \nDuring December\, the Mansion will be decorated for Christmas.
URL:https://mhs-test.orrmedia.com/event/burrowes-mansion-tours-7/
LOCATION:Burrowes Mansion Museum\, 94 Main Street\, Matawan\, NJ\, 07747\, United States
END:VEVENT
BEGIN:VEVENT
DTSTART;TZID=America/New_York:20211205T140000
DTEND;TZID=America/New_York:20211205T160000
DTSTAMP:20260424T065001
CREATED:20210614T180128Z
LAST-MODIFIED:20211117T004826Z
UID:2385-1638712800-1638720000@mhs-test.orrmedia.com
SUMMARY:Burrowes Mansion Tours
DESCRIPTION:On the first and third Sunday of each month\, Matawan Historical Society Mansion volunteers provide tours of the Burrowes Mansion to the public.  Everyone is welcome and the tours are free (although donations to the Society are greatly appreciated). \nEach tour leads visitors room-to-room while guides discuss the Mansion’s dramatic history\, unique architecture\, period furniture\, and the fascinating people who lived there.
URL:https://mhs-test.orrmedia.com/event/holiday-musicale-holiday-songs-and-desserts/
LOCATION:Burrowes Mansion Museum\, 94 Main Street\, Matawan\, NJ\, 07747\, United States
ATTACH;FMTTYPE=image/jpeg:https://mhs-test.orrmedia.com/wp-content/uploads/2021/10/DaisyMusket-scaled-e1637110026562.jpg
END:VEVENT
BEGIN:VEVENT
DTSTART;TZID=America/New_York:20211121T140000
DTEND;TZID=America/New_York:20211121T160000
DTSTAMP:20260424T065001
CREATED:20211029T234320Z
LAST-MODIFIED:20211117T004034Z
UID:2640-1637503200-1637510400@mhs-test.orrmedia.com
SUMMARY:Burrowes Mansion Tours
DESCRIPTION:On the first and third Sunday of each month\, Matawan Historical Society Mansion volunteers provide tours of the Burrowes Mansion to the public.  Everyone is welcome and the tours are free (although donations to the Society are greatly appreciated). \nEach tour leads visitors room-to-room while guides discuss the Mansion’s dramatic history\, unique architecture\, period furniture\, and the fascinating people who lived there.
URL:https://mhs-test.orrmedia.com/event/burrowes-mansion-tours-6/
LOCATION:Burrowes Mansion Museum\, 94 Main Street\, Matawan\, NJ\, 07747\, United States
END:VEVENT
BEGIN:VEVENT
DTSTART;TZID=America/New_York:20211114T130000
DTEND;TZID=America/New_York:20211114T170000
DTSTAMP:20260424T065001
CREATED:20211105T171454Z
LAST-MODIFIED:20211105T171454Z
UID:2653-1636894800-1636909200@mhs-test.orrmedia.com
SUMMARY:Cliffwood Beach Historical Walk
DESCRIPTION:Did you know about the beach resort\, giant ferris wheel\, and largest salt water pool every built at the time? How about the pirates that sailed down along the shores of Raritan Bay from the Atlantic Ocean burying treasure in carefully hidden alcoves along the way? \nThe Matawan Historical Society is getting ready to present a tour sponsored by the Aberdeen Recreation Department – The History of Cliffwood Beach and the Legends of Treasure Lake on Sunday\, November 14th at 1:00pm and 3:00 pm.\nThe tour is free but registration is requested at the link below. Refreshments will follow at the Cliffwood Beach Community Center.\nJoin us for this fun and informative afternoon at the beautiful seawall in Cliffwood Beach! \nLocation: Veterans Memorial Park\, Cliffwood Beach \nRegistration Link: https://tinyurl.com/2zym2822 \n  \n  \n  \n 
URL:https://mhs-test.orrmedia.com/event/cliffwood-beach-historical-walk/
LOCATION:NJ
END:VEVENT
BEGIN:VEVENT
DTSTART;TZID=America/New_York:20211107T140000
DTEND;TZID=America/New_York:20211107T160000
DTSTAMP:20260424T065001
CREATED:20211029T234123Z
LAST-MODIFIED:20211029T234419Z
UID:2638-1636293600-1636300800@mhs-test.orrmedia.com
SUMMARY:Burrowes Mansion Tours
DESCRIPTION:
URL:https://mhs-test.orrmedia.com/event/burrowes-mansion-tours-5/
LOCATION:Burrowes Mansion Museum\, 94 Main Street\, Matawan\, NJ\, 07747\, United States
END:VEVENT
BEGIN:VEVENT
DTSTART;TZID=America/New_York:20211030T170000
DTEND;TZID=America/New_York:20211030T230000
DTSTAMP:20260424T065001
CREATED:20210614T180048Z
LAST-MODIFIED:20211009T014058Z
UID:2383-1635613200-1635634800@mhs-test.orrmedia.com
SUMMARY:Haunted Matawan History Ghost Tours
DESCRIPTION:Matawan Haunted History Tours are back again for another year of fun historic accounts mixed with stories of paranormal activities. \nThis year\, we will present an all new walking tour taking you along a new route with new ghost stories and historical accounts. Be prepared to walk about 1 1/4 miles during the 1 1/2 hour tour.  Four times slots offered at 1 1/2 hour increments. Tickets are $20. Children under age 16 are free\, but the tour is not recommended for very young children. Children must be accompanied by a parent. \nTour times are 5:00 PM\, 6:30 PM\, 8:00 PM\, and 9:30 PM.  Refreshments will be provided at the end of the tour. \nTickets can be purchased through Eventbrite at this link: https://tinyurl.com/jvctt2u5 .
URL:https://mhs-test.orrmedia.com/event/haunted-matawan-history-ghost-tours/
LOCATION:Burrowes Mansion Museum\, 94 Main Street\, Matawan\, NJ\, 07747\, United States
END:VEVENT
BEGIN:VEVENT
DTSTART;TZID=America/New_York:20211017T140000
DTEND;TZID=America/New_York:20211017T160000
DTSTAMP:20260424T065001
CREATED:20211005T161902Z
LAST-MODIFIED:20211005T161902Z
UID:2618-1634479200-1634486400@mhs-test.orrmedia.com
SUMMARY:Burrowes Mansion Tours
DESCRIPTION:
URL:https://mhs-test.orrmedia.com/event/burrowes-mansion-tours-4/
LOCATION:Burrowes Mansion Museum\, 94 Main Street\, Matawan\, NJ\, 07747\, United States
END:VEVENT
BEGIN:VEVENT
DTSTART;TZID=America/New_York:20211002T120000
DTEND;TZID=America/New_York:20211002T170000
DTSTAMP:20260424T065001
CREATED:20210614T175740Z
LAST-MODIFIED:20210715T131636Z
UID:2381-1633176000-1633194000@mhs-test.orrmedia.com
SUMMARY:Matawan Day
DESCRIPTION:Volunteers needed for help at our table.\nRain Date: Sunday October 3rd
URL:https://mhs-test.orrmedia.com/event/matawan-day/
LOCATION:NJ
END:VEVENT
BEGIN:VEVENT
DTSTART;TZID=America/New_York:20210927T180000
DTEND;TZID=America/New_York:20210927T200000
DTSTAMP:20260424T065001
CREATED:20210614T175608Z
LAST-MODIFIED:20210727T150258Z
UID:2379-1632765600-1632772800@mhs-test.orrmedia.com
SUMMARY:Backyard Welcome Back BBQ
DESCRIPTION:
URL:https://mhs-test.orrmedia.com/event/backyard-welcome-back-bbq/
LOCATION:Burrowes Mansion Museum\, 94 Main Street\, Matawan\, NJ\, 07747\, United States
END:VEVENT
BEGIN:VEVENT
DTSTART;TZID=America/New_York:20210919T140000
DTEND;TZID=America/New_York:20210919T160000
DTSTAMP:20260424T065001
CREATED:20210917T205110Z
LAST-MODIFIED:20210917T205110Z
UID:2614-1632060000-1632067200@mhs-test.orrmedia.com
SUMMARY:Burrowes Mansion Tours
DESCRIPTION:
URL:https://mhs-test.orrmedia.com/event/burrowes-mansion-tours-3/
LOCATION:Burrowes Mansion Museum\, 94 Main Street\, Matawan\, NJ\, 07747\, United States
END:VEVENT
BEGIN:VEVENT
DTSTART;TZID=America/New_York:20210905T140000
DTEND;TZID=America/New_York:20210905T160000
DTSTAMP:20260424T065001
CREATED:20210825T003215Z
LAST-MODIFIED:20210825T003215Z
UID:2609-1630850400-1630857600@mhs-test.orrmedia.com
SUMMARY:Burrowes Mansion Tours
DESCRIPTION:
URL:https://mhs-test.orrmedia.com/event/burrowes-mansion-tours-2/
LOCATION:Burrowes Mansion Museum\, 94 Main Street\, Matawan\, NJ\, 07747\, United States
END:VEVENT
BEGIN:VEVENT
DTSTART;TZID=America/New_York:20210815T140000
DTEND;TZID=America/New_York:20210815T160000
DTSTAMP:20260424T065001
CREATED:20210729T135703Z
LAST-MODIFIED:20210729T135703Z
UID:2571-1629036000-1629043200@mhs-test.orrmedia.com
SUMMARY:Burrowes Mansion Tours
DESCRIPTION:(Please note that no tours will be given on August 1st.)
URL:https://mhs-test.orrmedia.com/event/burrowes-mansion-tours/
LOCATION:Burrowes Mansion Museum\, 94 Main Street\, Matawan\, NJ\, 07747\, United States
END:VEVENT
BEGIN:VEVENT
DTSTART;TZID=America/New_York:20210718T140000
DTEND;TZID=America/New_York:20210718T160000
DTSTAMP:20260424T065001
CREATED:20210715T152652Z
LAST-MODIFIED:20210715T190129Z
UID:2516-1626616800-1626624000@mhs-test.orrmedia.com
SUMMARY:Burrowes Mansion Tours
DESCRIPTION:
URL:https://mhs-test.orrmedia.com/event/burrowes-mansion-tour/
LOCATION:Burrowes Mansion Museum\, 94 Main Street\, Matawan\, NJ\, 07747\, United States
END:VEVENT
END:VCALENDAR